BEGIN:VCALENDAR
VERSION:2.0
PRODID:icalendar-ruby
CALSCALE:GREGORIAN
METHOD:PUBLISH
BEGIN:VEVENT
DTSTAMP:20260420T201950Z
UID:5-465574@stgeorgesmagill.org
DTSTART:20260913T010000Z
DTEND:20260913T020000Z
CLASS:PUBLIC
CREATED:20260421T042732
DESCRIPTION:We'd love to have you join us at our Sunday gathering at 10:30 
 AM! \nAnybody can come\, no matter their background or beliefs\, and at o
 ur 10:30 AM gathering we also have programs especially for kids\, so they'
 re welcome too! If you're wondering what to expect\, click the button belo
 w for some helpful information.
LAST-MODIFIED:20260421T042732
LOCATION:
SUMMARY:10:30 Gathering
URL;VALUE=URI:https://next.stgeorgesmagill.org/events/10-30-gathering/2026-
 09-13
END:VEVENT
END:VCALENDAR
